BEGIN:VCALENDAR
VERSION:2.0
PRODID:-//ChamberMaster//Event Calendar 2.0//EN
METHOD:PUBLISH
X-PUBLISHED-TTL:P3D
REFRESH-INTERVAL:P3D
CALSCALE:GREGORIAN
BEGIN:VEVENT
DTSTART:20200528T213000Z
DTEND:20200528T223000Z
X-MICROSOFT-CDO-ALLDAYEVENT:FALSE
SUMMARY:Virtual Town Hall Meeting
DESCRIPTION:Village Manager Andrea Agha will host a Town Hall Meeting via Zoom to discuss how the Village of Key Biscayne is moving to a New Normal. The meeting will also be broadcast on Channel 77.
X-ALT-DESC;FMTTYPE=text/html:Village Manager Andrea Agha will host a Town Hall Meeting via Zoom to discuss how the Village of Key Biscayne is moving to a New Normal. The meeting will also be broadcast on Channel 77.
LOCATION:Zoom Meeting Meeting ID: 231 627 8415
UID:e.330.18879
SEQUENCE:3
DTSTAMP:20260420T031617Z
URL:http://business.keybiscaynechamber.org/events/details/virtual-town-hall-meeting-18879
END:VEVENT

END:VCALENDAR
