BEGIN:VCALENDAR
VERSION:2.0
PRODID:-//ChamberMaster//Event Calendar 2.0//EN
METHOD:PUBLISH
X-PUBLISHED-TTL:P3D
REFRESH-INTERVAL:P3D
CALSCALE:GREGORIAN
BEGIN:VEVENT
DTSTART:20200902T160000Z
DTEND:20200902T170000Z
X-MICROSOFT-CDO-ALLDAYEVENT:FALSE
SUMMARY:Virtual Meet & Greet: Jake Ozyman
DESCRIPTION:You're invited a Virtual Meet & Greet with Jake Ozyman\, Director of Building\, Zoning & Planning and Public Works. He will be answering any questions regarding the landscaping\, garbage and recycling services.\n\n\n\nA representative from SFM Services\, the Village's new landscaping contractor\, will also be available.
X-ALT-DESC;FMTTYPE=text/html:You&#39\;re invited a Virtual Meet &amp\; Greet with Jake Ozyman\, Director of Building\, Zoning &amp\; Planning and Public Works. He will be answering any questions regarding the landscaping\, garbage and recycling services.<br />\n<br />\nA representative from SFM Services\, the Village&#39\;s new landscaping contractor\, will also be available.
LOCATION:Zoom Join Meeting Meeting ID: 960 6060 6735 One tap mobile +13017158592\,\,96060606735# US (Germantown) +13126266799\,\,96060606735# US (Chicago) Dial by your location +1 301 715 8592 US (Germantown) +1 312 626 6799 US (Chicago) +1 929 205 6099 US (New York) +1 253 215 8782 US (Tacoma) +1 346 248 7799 US (Houston) +1 669 900 6833 US (San Jose) Meeting ID: 960 6060 6735 Find your local number: https://zoom.us/u/acrVV9n6l2
UID:e.330.19319
SEQUENCE:3
DTSTAMP:20260419T132034Z
URL:http://business.keybiscaynechamber.org/events/details/virtual-meet-greet-jake-ozyman-19319
END:VEVENT

END:VCALENDAR
