BEGIN:VCALENDAR
VERSION:2.0
PRODID:-//ChamberMaster//Event Calendar 2.0//EN
METHOD:PUBLISH
X-PUBLISHED-TTL:P3D
REFRESH-INTERVAL:P3D
CALSCALE:GREGORIAN
BEGIN:VEVENT
DTSTART:20190430T220000Z
DTEND:20190501T020000Z
X-MICROSOFT-CDO-ALLDAYEVENT:FALSE
SUMMARY:Village Council Meeting
DESCRIPTION:Meetings are held at 6:00 PM. Dates and times are subject to change. Zoning Meetings and Special Council Meetings will be scheduled on an as needed basis.\n\n\n\nAGENDA
X-ALT-DESC;FMTTYPE=text/html:Meetings are held at 6:00 PM. Dates and times are subject to change. Zoning Meetings and Special Council Meetings will be scheduled on an as needed basis.<br />\n<br />\n<a href="http://keybiscayne.fl.gov/index.php?src=gendocs&amp\;ref=agenda-19-04-30-council&amp\;category=Clerk">AGENDA</a>
LOCATION:Council Chamber 560 Crandon Boulevard (rear of Fire Station) Key Biscayne\, FL 33149
UID:e.330.15617
SEQUENCE:3
DTSTAMP:20260423T022859Z
URL:http://business.keybiscaynechamber.org/events/details/village-council-meeting-04-30-2019-15617
END:VEVENT

END:VCALENDAR
