BEGIN:VCALENDAR
VERSION:2.0
PRODID:-//ChamberMaster//Event Calendar 2.0//EN
METHOD:PUBLISH
X-PUBLISHED-TTL:P3D
REFRESH-INTERVAL:P3D
CALSCALE:GREGORIAN
BEGIN:VEVENT
DTSTART:20190319T220000Z
DTEND:20190320T020000Z
X-MICROSOFT-CDO-ALLDAYEVENT:FALSE
SUMMARY:Village Council Meeting
DESCRIPTION:Meetings are held at 6:00 PM. Dates and times are subject to change. Zoning Meetings and Special Council Meetings will be scheduled on an as needed basis.
X-ALT-DESC;FMTTYPE=text/html:Meetings are held at 6:00 PM. Dates and times are subject to change. Zoning Meetings and Special Council Meetings will be scheduled on an as needed basis.
LOCATION:Council Chamber 560 Crandon Blvd (rear of Fire Station) Key Biscayne\, FL 33149
UID:e.330.15615
SEQUENCE:3
DTSTAMP:20260423T041119Z
URL:http://business.keybiscaynechamber.org/events/details/village-council-meeting-03-19-2019-15615
END:VEVENT

END:VCALENDAR
