BEGIN:VCALENDAR
VERSION:2.0
PRODID:-//ChamberMaster//Event Calendar 2.0//EN
METHOD:PUBLISH
X-PUBLISHED-TTL:P3D
REFRESH-INTERVAL:P3D
CALSCALE:GREGORIAN
BEGIN:VEVENT
DTSTART:20240409T223000Z
DTEND:20240410T023000Z
X-MICROSOFT-CDO-ALLDAYEVENT:FALSE
SUMMARY:Village Council Meeting
DESCRIPTION:Please click on the links below for the Tuesday\, February 13\, 2024 Village Council Meeting Agenda and viewing instructions.\n\n \n\n\n	Council Meeting Agenda\n	Viewing Instructions
X-ALT-DESC;FMTTYPE=text/html:<div style="font-size: 16px\;"><br>\n<br>\n<span style="font-size:18px\;"><span style="font-family:arial\;">Please click on the links below for the Tuesday\, February 13\, 2024 Village Council Meeting Agenda and viewing instructions.</span></span><br>\n&nbsp\;</div>\n\n<ul>\n	<li style="font-size: 16px\;"><span style="font-size:18px\;"><span style="font-family:arial\;"><a href="https://d3n9y02raazwpg.cloudfront.net/keybiscayne/0211f780-ad57-445c-b35e-697d565752b4-4206a9c6-5dc6-45bb-9df3-1259d90bcd76-1712274670.pdf" style="color:rgb(70\, 120\, 134)\;"><span style="color:#008080\;">Council Meeting Agenda</span></a></span></span></li>\n	<li><span style="font-size:18px\;"><span style="font-family:arial\;"><a href="https://keybiscayne.fl.gov/your_government/meeting_instructions.php" style="color:rgb(70\, 120\, 134)\;"><span style="color:#008080\;">Viewing Instructions</span></a></span></span></li>\n</ul>\n
LOCATION:Village Council Chamber (Rear of Fire Station)
UID:e.330.22487
SEQUENCE:3
DTSTAMP:20260425T141232Z
URL:http://business.keybiscaynechamber.org/events/details/village-council-meeting-02-13-2024-22487
END:VEVENT

END:VCALENDAR
