BEGIN:VCALENDAR
VERSION:2.0
PRODID:-//ChamberMaster//Event Calendar 2.0//EN
METHOD:PUBLISH
X-PUBLISHED-TTL:P3D
REFRESH-INTERVAL:P3D
CALSCALE:GREGORIAN
BEGIN:VEVENT
DTSTART:20240123T233000Z
DTEND:20240124T033000Z
X-MICROSOFT-CDO-ALLDAYEVENT:FALSE
SUMMARY:Village Council Meeting
DESCRIPTION:Please click on the links below for the Tuesday\, January 23\, 2024 Village Council Meeting Agenda and viewing instructions.\n\n	Council Meeting Agenda\n	Viewing Instructions
X-ALT-DESC;FMTTYPE=text/html:<br />\n<span style="font-size:16px\;">Please click on the links below for the Tuesday\, January 23\, 2024 Village Council Meeting Agenda and viewing instructions.</span>\n<ul>\n	<li><span style="font-size:16px\;"><a href="https://d3n9y02raazwpg.cloudfront.net/keybiscayne/07754681-4050-4f48-b8a4-128abb3e4ba4-4206a9c6-5dc6-45bb-9df3-1259d90bcd76-1705944818.pdf">Council Meeting Agenda</a></span></li>\n	<li><span style="font-size:16px\;"><a href="https://keybiscayne.fl.gov/your_government/meeting_instructions.php">Viewing Instructions</a></span></li>\n</ul>\n
LOCATION:Village Council Chamber (Rear of Fire Station)
UID:e.330.22455
SEQUENCE:3
DTSTAMP:20260425T182923Z
URL:http://business.keybiscaynechamber.org/events/details/village-council-meeting-01-23-2024-22455
END:VEVENT

END:VCALENDAR
