BEGIN:VCALENDAR
VERSION:2.0
PRODID:-//ChamberMaster//Event Calendar 2.0//EN
METHOD:PUBLISH
X-PUBLISHED-TTL:P3D
REFRESH-INTERVAL:P3D
CALSCALE:GREGORIAN
BEGIN:VEVENT
DTSTART:20191111T140000Z
DTEND:20191111T170000Z
X-MICROSOFT-CDO-ALLDAYEVENT:FALSE
SUMMARY:Veterans Day Ceremony at Village Green
DESCRIPTION:The ceremony will start promptly at 9:00 a.m.\n\nAttendees are encouraged to arrive on time by the Richard L. Cromartie American Legion Post 374 Key Biscayne.
X-ALT-DESC;FMTTYPE=text/html:The ceremony will start promptly at 9:00 a.m.<br />\nAttendees are encouraged to arrive on time by the Richard L. Cromartie American Legion Post 374 Key Biscayne.
LOCATION:Village Green Flagpole at East end of Promenade Key Biscayne\, FL 33149
UID:e.330.18516
SEQUENCE:3
DTSTAMP:20260421T205551Z
URL:http://business.keybiscaynechamber.org/events/details/veterans-day-ceremony-at-village-green-11-11-2019-18516
END:VEVENT

END:VCALENDAR
