BEGIN:VCALENDAR
VERSION:2.0
PRODID:-//ChamberMaster//Event Calendar 2.0//EN
METHOD:PUBLISH
X-PUBLISHED-TTL:P3D
REFRESH-INTERVAL:P3D
CALSCALE:GREGORIAN
BEGIN:VEVENT
DTSTART:20200416T180000Z
DTEND:20200416T190000Z
X-MICROSOFT-CDO-ALLDAYEVENT:FALSE
SUMMARY:Understanding Contractual Obligations During the Coronavirus Pandemic
DESCRIPTION:Topic: Enforcing contracts\, defending against enforcement actions\, or negotiating deals to avoid enforcement actions.\n\n\n\nJoin Zoom Meeting\n\nMeeting ID: 305 361 5207\n\nPassword: 807759\n\n\n\nNew to Zoom? Get the app now and be ready when your first meeting starts: https://zoom.us/download\n\n\n\nGuest Speaker Arturo Arca Esq.\, Trembly Law Firm\n\nThe Trembly Law Firm is a Franchise\, Business and Civil Litigation law firm working hard to provide answers to businesses during the Covid-19 pandemic. Due to the overwhelming amount of information being shared on the Coronavirus right now\, the Trembly Law Firm has organized one source of information for you to rely on: tremblylaw.com/coronavirus. \n\n \n\nIf you would like to set up a consultation\, please call or submit a request at tremblylaw.com/VIP to speak to Arturo Arca and reference the Key Biscayne Chamber of Commerce to assure your request is handled expeditiously.
X-ALT-DESC;FMTTYPE=text/html:Topic: Enforcing contracts\, defending against enforcement actions\, or negotiating deals to avoid enforcement actions.<br />\n<br />\n<a href="https://zoom.us/j/3053615207?pwd=dTVWbVJKUE80QnovVFJNcmkxT2N4dz09&amp\;status=success">Join Zoom Meeting</a><br />\nMeeting ID: 305 361 5207<br />\nPassword: 807759<br />\n<br />\nNew to Zoom? Get the app now and be ready when your first meeting starts: <a href="https://zoom.us/download">https://zoom.us/download</a><br />\n<br />\n<strong>Guest Speaker Arturo Arca Esq.\, <em>Trembly Law Firm</em></strong><br />\nThe Trembly Law Firm is a Franchise\, Business and Civil Litigation law firm working hard to provide answers to businesses during the Covid-19 pandemic. Due to the overwhelming amount of information being shared on the Coronavirus right now\, the Trembly Law Firm has organized one source of information for you to rely on: <a href="https://tremblylaw.com/coronavirus/">tremblylaw.com/coronavirus</a>.&nbsp\;<br />\n&nbsp\;<br />\nIf you would like to set up a consultation\, please call or submit a request at <a href="http://tremblylaw.com/VIP/">tremblylaw.com/VIP</a> to speak to Arturo Arca and reference the Key Biscayne Chamber of Commerce to assure your request is handled expeditiously.
LOCATION:
UID:e.330.18659
SEQUENCE:3
DTSTAMP:20260420T070444Z
URL:http://business.keybiscaynechamber.org/events/details/understanding-contractual-obligations-during-the-coronavirus-pandemic-18659
END:VEVENT

END:VCALENDAR
