BEGIN:VCALENDAR
VERSION:2.0
PRODID:-//ChamberMaster//Event Calendar 2.0//EN
METHOD:PUBLISH
X-PUBLISHED-TTL:P3D
REFRESH-INTERVAL:P3D
CALSCALE:GREGORIAN
BEGIN:VEVENT
DTSTART:20200430T170000Z
DTEND:20200430T180000Z
X-MICROSOFT-CDO-ALLDAYEVENT:FALSE
SUMMARY:Thursday Roundtables: Reopening South Florida - Mayors Discuss Path Forward
DESCRIPTION:Thursday Roundtables are weekly webinars hosted by the Greater Miami Chamber of Commerce. They are created to share information\, resources & assistance available for businesses & their employees impacted by COVID-19. Speakers will include civic leaders discussing resources which have been deployed at the local\, state & federal levels.\n\n\n\nThis week's Thursday Roundtable focuses on re-starting South Florida's economic engine & how best to do it in a safe & healthy way. Our speakers include*:\n\n"How is our County Responding & Re-starting our Economy?"\n\n  Mayor Carlos Gimenez\, Miami-Dade County\n\n\n\n"How are Cities Responding & Re-starting our Economy?"\n\n  Mayor Dan Gelber\, City of Miami Beach\n\n  Mayor Francis Suarez\, City of Miami\n\n\n\n  Moderator: Jose Bermudez\, Government Affairs Committee Chair\, Greater Miami Chamber of Commerce\n\n  Host: Alfred Sanchez\, President & CEO\, Greater Miami Chamber of Commerce\n\n\n\nModerated Question & Answer sessions to follow speakers.\n\nRegistration will be limited to 1\,000 individuals on a first-come\, first-serve basis.\n\n\n\nThursday Roundtables will be recorded and made available online on the Greater Miami Chamber of Commerce.\n\n\n\n*Final panelists pending confirmation. Speaker representatives from invited organizations may change.
X-ALT-DESC;FMTTYPE=text/html:Thursday Roundtables are weekly webinars hosted by the Greater Miami Chamber of Commerce. They are created to share information\, resources &amp\; assistance available for businesses &amp\; their employees impacted by COVID-19. Speakers will include civic leaders discussing resources which have been deployed at the local\, state &amp\; federal levels.<br />\n<br />\nThis week&#39\;s Thursday Roundtable focuses on re-starting South Florida&#39\;s economic engine &amp\; how best to do it in a safe &amp\; healthy way. Our speakers include*:<br />\n&quot\;How is our County Responding &amp\; Re-starting our Economy?&quot\;<br />\n&bull\; Mayor Carlos Gimenez\, Miami-Dade County<br />\n<br />\n&quot\;How are Cities Responding &amp\; Re-starting our Economy?&quot\;<br />\n&bull\; Mayor Dan Gelber\, City of Miami Beach<br />\n&bull\; Mayor Francis Suarez\, City of Miami<br />\n<br />\n&bull\; Moderator: Jose Bermudez\, Government Affairs Committee Chair\, Greater Miami Chamber of Commerce<br />\n&bull\; Host: Alfred Sanchez\, President &amp\; CEO\, Greater Miami Chamber of Commerce<br />\n<br />\nModerated Question &amp\; Answer sessions to follow speakers.<br />\nRegistration will be limited to 1\,000 individuals on a first-come\, first-serve basis.<br />\n<br />\nThursday Roundtables will be recorded and made available online on the Greater Miami Chamber of Commerce.<br />\n<br />\n*Final panelists pending confirmation. Speaker representatives from invited organizations may change.
LOCATION:
UID:e.330.18664
SEQUENCE:3
DTSTAMP:20260420T050358Z
URL:http://business.keybiscaynechamber.org/events/details/thursday-roundtables-reopening-south-florida-mayors-discuss-path-forward-18664
END:VEVENT

END:VCALENDAR
