BEGIN:VCALENDAR
VERSION:2.0
PRODID:-//ChamberMaster//Event Calendar 2.0//EN
METHOD:PUBLISH
X-PUBLISHED-TTL:P3D
REFRESH-INTERVAL:P3D
CALSCALE:GREGORIAN
BEGIN:VEVENT
DTSTART:20240505T220000Z
DTEND:20240506T000000Z
X-MICROSOFT-CDO-ALLDAYEVENT:FALSE
SUMMARY:The Eileen McCaughan Memorial Pasta Dinner
DESCRIPTION:Join us for a cherished community tradition spanning 35 years the Eileen McCaughan Memorial Scholarship Fund Pasta Dinner. This special event will be held on Sunday\, May 5th\, 2024\, from 6-8 PM at the Key Biscayne Beach Club. It's a perfect evening to enjoy delectable pasta while supporting a noble cause.\n\n\n\nThe scholarship fund honors the legacy of Eileen McCaughan by helping local students achieve their educational dreams. Gather with family\, friends\, and neighbors for a night of good food\, fellowship\, and the opportunity to contribute to a brighter future for our youth. We look forward to seeing you there!
X-ALT-DESC;FMTTYPE=text/html:<br />\n<br />\n<br />\nJoin us for a cherished community tradition spanning 35 years&mdash\;the Eileen McCaughan Memorial Scholarship Fund Pasta Dinner. This special event will be held on Sunday\, May 5th\, 2024\, from 6-8 PM at the Key Biscayne Beach Club. It&#39\;s a perfect evening to enjoy delectable pasta while supporting a noble cause.<br />\n<br />\nThe scholarship fund honors the legacy of Eileen McCaughan by helping local students achieve their educational dreams. Gather with family\, friends\, and neighbors for a night of good food\, fellowship\, and the opportunity to contribute to a brighter future for our youth. We look forward to seeing you there!
LOCATION:Key Biscayne Beach Club
UID:e.330.22556
SEQUENCE:3
DTSTAMP:20260425T115732Z
URL:http://business.keybiscaynechamber.org/events/details/the-eileen-mccaughan-memorial-pasta-dinner-22556
END:VEVENT

END:VCALENDAR
