BEGIN:VCALENDAR
VERSION:2.0
PRODID:-//ChamberMaster//Event Calendar 2.0//EN
METHOD:PUBLISH
X-PUBLISHED-TTL:P3D
REFRESH-INTERVAL:P3D
CALSCALE:GREGORIAN
BEGIN:VEVENT
DTSTART:20200504T223000Z
DTEND:20200504T233000Z
X-MICROSOFT-CDO-ALLDAYEVENT:FALSE
SUMMARY:Tele-Town Hall Meeting with Rep. Donna Shalala
DESCRIPTION:Join Congresswoman Rep. Donna Shalala for a Tele-Town Hall Meeting for Village of Key Biscayne residents via Zoom. This meeting will include special guests: Key Biscayne Mayor Michael Davey\, State Representative Nick Duran\, and State Senator Jose Javier Rodriguez.
X-ALT-DESC;FMTTYPE=text/html:Join Congresswoman Rep. Donna Shalala for a Tele-Town Hall Meeting for Village of Key Biscayne residents via Zoom. This meeting will include special guests: Key Biscayne Mayor Michael Davey\, State Representative Nick Duran\, and State Senator Jose Javier Rodriguez.
LOCATION:Join Zoom meeting: ID: 895 0791 4463 Password: 325611
UID:e.330.18663
SEQUENCE:3
DTSTAMP:20260420T050710Z
URL:http://business.keybiscaynechamber.org/events/details/tele-town-hall-meeting-with-rep-donna-shalala-18663
END:VEVENT

END:VCALENDAR
