BEGIN:VCALENDAR
VERSION:2.0
PRODID:-//ChamberMaster//Event Calendar 2.0//EN
METHOD:PUBLISH
X-PUBLISHED-TTL:P3D
REFRESH-INTERVAL:P3D
CALSCALE:GREGORIAN
BEGIN:VEVENT
DTSTART:20191226T150000Z
DTEND:20191230T210000Z
X-MICROSOFT-CDO-ALLDAYEVENT:FALSE
SUMMARY:Tastes of Miami Food & Music Festival
DESCRIPTION:Miami Seaquarium has announced the return of its Latin & Caribbean food and music festival\, Tastes of Miami\, taking place this holiday season. The colorful and energetic five-day festival will showcase an array of Latin & Caribbean food\, music\, dance\, arts and crafts. Park guests can discover the diverse cultures that make Miami a unique and vibrant international city. Each day of Tastes of Miami\, local food trucks will be featuring their hallmark savory dishes for purchase. On select days\, guests can practice their dance moves   including Salsa and Zumba - with some of the best dance instructors. Kids can enjoy a play area with games and prizes\, bounce houses\, arts and crafts\, and much more! There is even more to discover in the Kids Conservation Fun Zone where they will have the opportunity to learn what different marine animals eat through a hands-on and sensory stimulating display. Miami Seaquarium is open every day from 10 a.m. to 6 p.m. and Tastes of Miami activities will run from 11 a.m. to 4 p.m. each day. Admission to the Tastes of Miami activities is included with Park admission.
X-ALT-DESC;FMTTYPE=text/html:Miami Seaquarium has announced the return of its Latin &amp\; Caribbean food and music festival\, Tastes of Miami\, taking place this holiday season. The colorful and energetic five-day festival will showcase an array of Latin &amp\; Caribbean food\, music\, dance\, arts and crafts. Park guests can discover the diverse cultures that make Miami a unique and vibrant international city. Each day of Tastes of Miami\, local food trucks will be featuring their hallmark savory dishes for purchase. On select days\, guests can practice their dance moves &ndash\; including Salsa and Zumba - with some of the best dance instructors. Kids can enjoy a play area with games and prizes\, bounce houses\, arts and crafts\, and much more! There is even more to discover in the Kids Conservation Fun Zone where they will have the opportunity to learn what different marine animals eat through a hands-on and sensory stimulating display. Miami Seaquarium is open every day from 10 a.m. to 6 p.m. and Tastes of Miami activities will run from 11 a.m. to 4 p.m. each day. Admission to the Tastes of Miami activities is included with Park admission.
LOCATION:Miami Seaquarium
UID:e.330.18541
SEQUENCE:3
DTSTAMP:20260421T104840Z
URL:http://business.keybiscaynechamber.org/events/details/tastes-of-miami-food-music-festival-18541
END:VEVENT

END:VCALENDAR
