BEGIN:VCALENDAR
VERSION:2.0
PRODID:-//ChamberMaster//Event Calendar 2.0//EN
METHOD:PUBLISH
X-PUBLISHED-TTL:P3D
REFRESH-INTERVAL:P3D
CALSCALE:GREGORIAN
BEGIN:VEVENT
DTSTART:20191204T153000Z
DTEND:20191204T163000Z
X-MICROSOFT-CDO-ALLDAYEVENT:FALSE
SUMMARY:Talk on Sea Level Rise & Sargassum w/ State Senator Pizzo
DESCRIPTION:Coldwell Banker - Brickell & Key Biscayne - hosts State Senator Jason Pizzo to talk about a relevant topic in our area\, sea level rise and Sargassum. Please join them at the Key Biscayne Beach club to get some insight on these important real estate concerns.
X-ALT-DESC;FMTTYPE=text/html:Coldwell Banker - Brickell &amp\; Key Biscayne - hosts State Senator Jason Pizzo to talk about a relevant topic in our area\, sea level rise and Sargassum. Please join them at the Key Biscayne Beach club to get some insight on these important real estate concerns.
LOCATION:Key Biscayne Beach Club
UID:e.330.18559
SEQUENCE:3
DTSTAMP:20260421T091007Z
URL:http://business.keybiscaynechamber.org/events/details/talk-on-sea-level-rise-sargassum-w-state-senator-pizzo-18559
END:VEVENT

END:VCALENDAR
