BEGIN:VCALENDAR
VERSION:2.0
PRODID:-//ChamberMaster//Event Calendar 2.0//EN
METHOD:PUBLISH
X-PUBLISHED-TTL:P3D
REFRESH-INTERVAL:P3D
CALSCALE:GREGORIAN
BEGIN:VEVENT
DTSTART:20240426T220000Z
DTEND:20240427T000000Z
X-MICROSOFT-CDO-ALLDAYEVENT:FALSE
SUMMARY:Sunset Poetry Share Picnic
DESCRIPTION:Create your very own GEM Poem Using only 16 words\, across 7 lines\, shaped like a diamond\, to share your vision of the island's vibrant landscapes\, landmarks\, or the unique essence of Key Life.\n\nIf you're a business owner\, tell us about your business\; your products\, the food you serve\, your outreach and interactions with residents and visitors in your GEM poem. We will be sharing select poems via our communication channels leading up to the Poetry Share & Picnic that will be held on Friday April 26th at Paradise Park.\n\n\n\nDEADLINE: Submit your GEM at debbiewpoetry@gmail.com by April 19th.\n\n\n\nThis is your moment to shine in our community's celebration of creativity and connection.\n\n\n\n\n\n                                                        Whispering\n\n                                                    Palm           Trees\n\n                                                In             the        Wind\n\n                                         Quite   secrets   blown ashore\n\n                                                under       the           sea\n\n                                                    Dreams         wait\n\n                                                              Listen\n\n\n\n                                                        by Oria Perez\n\n\n\nLearn more...\n\n\n	Key Biscayne Poetry Share to feature 'Gem Poems" written and submitted by residents (Islander News)\n	Can poetry bring Key Biscayne together? Debbie Wanninkhof thinks so (KB Independent)
X-ALT-DESC;FMTTYPE=text/html:<p a="" all="" alongside="" an="" and="" apple="" background-color:="" biscayne="" color="" dive="" during="" fellow="" font-size:="" green="" heart="" helvetica="" idyllic="" in="" into="" key="" lounging="" national="" noto="" of="" on="" p="" picnic="" picture="" poetry="" revel="" segoe="" span="" style="border: 0px solid rgb(227\, 227\, 227)\; box-sizing: border-box\; --tw-border-spacing-x:0\; --tw-border-spacing-y:0\; --tw-translate-x:0\; --tw-translate-y:0\; --tw-rotate:0\; --tw-skew-x:0\; --tw-skew-y:0\; --tw-scale-x:1\; --tw-scale-y:1\; --tw-pan-x: \; --tw-pan-y: \; --tw-pinch-zoom: \; --tw-scroll-snap-strictness:proximity\; --tw-gradient-from-position: \; --tw-gradient-via-position: \; --tw-gradient-to-position: \; --tw-ordinal: \; --tw-slashed-zero: \; --tw-numeric-figure: \; --tw-numeric-spacing: \; --tw-numeric-fraction: \; --tw-ring-inset: \; --tw-ring-offset-width:0px\; --tw-ring-offset-color:#fff\; --tw-ring-color:rgba(69\,89\,164\,0.5)\; --tw-ring-offset-shadow:0 0 transparent\; --tw-ring-shadow:0 0 transparent\; --tw-shadow:0 0 transparent\; --tw-shadow-colored:0 0 transparent\; --tw-blur: \; --tw-brightness: \; --tw-contrast: \; --tw-grayscale: \; --tw-hue-rotate: \; --tw-invert: \; --tw-saturate: \; --tw-sepia: \; --tw-drop-shadow: \; --tw-backdrop-blur: \; --tw-backdrop-brightness: \; --tw-backdrop-contrast: \; --tw-backdrop-grayscale: \; --tw-backdrop-hue-rotate: \; --tw-backdrop-invert: \; --tw-backdrop-opacity: \; --tw-backdrop-saturate: \; --tw-backdrop-sepia: \; margin: 1.25em 0px\; color: rgb(13\, 13\, 13)\; font-family: Söhne\, ui-sans-serif\, system-ui\, -apple-system\, " symphony="" the="" ui="" where="" while="" white-space:="" with="" your=""><br />\n<span style="font-size:18px\;"><span style="font-family:arial\;">Create your very own GEM Poem Using only 16 words\, across 7 lines\, shaped like a diamond\, to share your vision of the island&#39\;s vibrant landscapes\, landmarks\, or the unique essence of Key Life.</span></span></p>\n\n<p><span style="font-size:18px\;"><span style="caret-color: rgb(85\, 85\, 85)\; color: rgb(85\, 85\, 85)\; font-family: Arial\, Verdana\, Helvetica\, sans-serif\; text-size-adjust: auto\;">If you&#39\;re a business owner\, tell us about your business\; your products\, the food you serve\, your outreach and interactions with residents and visitors in your GEM poem. We will be sharing select poems via our communication channels leading up to the Poetry Share &amp\; Picnic that will be held on Friday April 26th at Paradise Park.</span></span></p>\n\n<p><br />\n<span style="font-size:18px\;"><strong>DEADLINE: Submit your GEM at <a href="mailto:debbiewpoetry@gmail.com ?subject=GEM%20Poem%20submission">debbiewpoetry@gmail.com </a>by April 19th.</strong><br />\n<br />\n<span style="font-family:arial\;">This is <strong>your moment to shine</strong> in our community&rsquo\;s celebration of creativity and connection.</span><br />\n<br />\n<br />\n&nbsp\;&nbsp\;&nbsp\;&nbsp\;&nbsp\;&nbsp\;&nbsp\;&nbsp\;&nbsp\;&nbsp\;&nbsp\;&nbsp\;&nbsp\;&nbsp\;&nbsp\;&nbsp\;&nbsp\;&nbsp\;&nbsp\;&nbsp\;&nbsp\;&nbsp\;&nbsp\;&nbsp\;&nbsp\;&nbsp\;&nbsp\;&nbsp\;&nbsp\;&nbsp\;&nbsp\;&nbsp\;&nbsp\;&nbsp\;&nbsp\;&nbsp\;&nbsp\;&nbsp\;&nbsp\;&nbsp\;&nbsp\;&nbsp\;&nbsp\;&nbsp\;&nbsp\;&nbsp\;&nbsp\;&nbsp\;&nbsp\;&nbsp\;&nbsp\;&nbsp\;&nbsp\;&nbsp\;&nbsp\;&nbsp\;Whispering<br />\n&nbsp\;&nbsp\;&nbsp\;&nbsp\;&nbsp\;&nbsp\;&nbsp\;&nbsp\;&nbsp\;&nbsp\;&nbsp\;&nbsp\;&nbsp\;&nbsp\;&nbsp\;&nbsp\;&nbsp\;&nbsp\;&nbsp\;&nbsp\;&nbsp\;&nbsp\;&nbsp\;&nbsp\;&nbsp\;&nbsp\;&nbsp\;&nbsp\;&nbsp\;&nbsp\;&nbsp\;&nbsp\;&nbsp\;&nbsp\;&nbsp\;&nbsp\;&nbsp\;&nbsp\;&nbsp\;&nbsp\;&nbsp\;&nbsp\;&nbsp\;&nbsp\;&nbsp\;&nbsp\;&nbsp\;&nbsp\;&nbsp\;&nbsp\;&nbsp\;&nbsp\;Palm&nbsp\; &nbsp\; &nbsp\; &nbsp\; &nbsp\; &nbsp\;Trees<br />\n&nbsp\;&nbsp\;&nbsp\;&nbsp\;&nbsp\;&nbsp\;&nbsp\;&nbsp\;&nbsp\;&nbsp\;&nbsp\;&nbsp\;&nbsp\;&nbsp\;&nbsp\;&nbsp\;&nbsp\;&nbsp\;&nbsp\;&nbsp\;&nbsp\;&nbsp\;&nbsp\;&nbsp\;&nbsp\;&nbsp\;&nbsp\;&nbsp\;&nbsp\;&nbsp\;&nbsp\;&nbsp\;&nbsp\;&nbsp\;&nbsp\;&nbsp\;&nbsp\;&nbsp\;&nbsp\;&nbsp\;&nbsp\;&nbsp\;&nbsp\;&nbsp\;&nbsp\;&nbsp\;&nbsp\;&nbsp\;In &nbsp\;&nbsp\;&nbsp\;&nbsp\;&nbsp\;&nbsp\;&nbsp\;&nbsp\;&nbsp\;&nbsp\;&nbsp\;&nbsp\;the &nbsp\;&nbsp\;&nbsp\;&nbsp\;&nbsp\;&nbsp\;&nbsp\;Wind<br />\n&nbsp\; &nbsp\; &nbsp\; &nbsp\; &nbsp\; &nbsp\; &nbsp\; &nbsp\; &nbsp\; &nbsp\; &nbsp\; &nbsp\; &nbsp\; &nbsp\; &nbsp\; &nbsp\; &nbsp\; &nbsp\; &nbsp\; &nbsp\; &nbsp\;Quite &nbsp\;&nbsp\;secrets&nbsp\; &nbsp\;blown ashore<br />\n&nbsp\;&nbsp\;&nbsp\;&nbsp\;&nbsp\;&nbsp\;&nbsp\;&nbsp\;&nbsp\;&nbsp\;&nbsp\;&nbsp\;&nbsp\;&nbsp\;&nbsp\;&nbsp\;&nbsp\;&nbsp\;&nbsp\;&nbsp\;&nbsp\;&nbsp\;&nbsp\;&nbsp\;&nbsp\;&nbsp\;&nbsp\;&nbsp\;&nbsp\;&nbsp\;&nbsp\;&nbsp\;&nbsp\;&nbsp\;&nbsp\;&nbsp\;&nbsp\;&nbsp\;&nbsp\;&nbsp\;&nbsp\;&nbsp\;&nbsp\;&nbsp\;&nbsp\;&nbsp\;&nbsp\;&nbsp\;under &nbsp\; &nbsp\; &nbsp\; the &nbsp\; &nbsp\; &nbsp\; &nbsp\; &nbsp\; sea<br />\n&nbsp\;&nbsp\;&nbsp\;&nbsp\;&nbsp\;&nbsp\;&nbsp\;&nbsp\;&nbsp\;&nbsp\;&nbsp\;&nbsp\;&nbsp\;&nbsp\;&nbsp\;&nbsp\;&nbsp\;&nbsp\;&nbsp\;&nbsp\;&nbsp\;&nbsp\;&nbsp\;&nbsp\;&nbsp\;&nbsp\;&nbsp\;&nbsp\;&nbsp\;&nbsp\;&nbsp\;&nbsp\;&nbsp\;&nbsp\;&nbsp\;&nbsp\;&nbsp\;&nbsp\;&nbsp\;&nbsp\;&nbsp\;&nbsp\;&nbsp\;&nbsp\;&nbsp\;&nbsp\;&nbsp\;&nbsp\;&nbsp\;&nbsp\;&nbsp\;&nbsp\;Dreams &nbsp\;&nbsp\;&nbsp\;&nbsp\;&nbsp\;&nbsp\;&nbsp\;&nbsp\;wait<br />\n&nbsp\; &nbsp\; &nbsp\; &nbsp\; &nbsp\; &nbsp\; &nbsp\; &nbsp\; &nbsp\; &nbsp\; &nbsp\; &nbsp\; &nbsp\; &nbsp\; &nbsp\; &nbsp\; &nbsp\; &nbsp\; &nbsp\; &nbsp\; &nbsp\; &nbsp\; &nbsp\; &nbsp\; &nbsp\; &nbsp\; &nbsp\; &nbsp\; &nbsp\; &nbsp\; &nbsp\; Listen<br />\n<br />\n&nbsp\;&nbsp\;&nbsp\;&nbsp\;&nbsp\;&nbsp\;&nbsp\;&nbsp\;&nbsp\;&nbsp\;&nbsp\;&nbsp\;&nbsp\;&nbsp\;&nbsp\;&nbsp\;&nbsp\;&nbsp\;&nbsp\;&nbsp\;&nbsp\;&nbsp\;&nbsp\;&nbsp\;&nbsp\;&nbsp\;&nbsp\;&nbsp\;&nbsp\;&nbsp\;&nbsp\;&nbsp\;&nbsp\;&nbsp\;&nbsp\;&nbsp\;&nbsp\;&nbsp\;&nbsp\;&nbsp\;&nbsp\;&nbsp\;&nbsp\;&nbsp\;&nbsp\;&nbsp\;&nbsp\;&nbsp\;&nbsp\;&nbsp\;&nbsp\;&nbsp\;&nbsp\;&nbsp\;&nbsp\;&nbsp\;by Oria Perez</span><br />\n<br />\n<em><span style="font-size:18px\;">Learn more...</span></em></p>\n\n<ul>\n	<li><span style="font-size:18px\;"><a href="https://www.islandernews.com/news/keybiscayne/key-biscayne-poetry-share-to-feature-gem-poems-written-and-submitted-by-residents/article_1ef73758-dcc4-11ee-97aa-2f60ea24a606.html">Key Biscayne Poetry Share to feature &lsquo\;Gem Poems&rdquo\; written and submitted by residents</a> (<em>Islander News)</em></span></li>\n	<li><span style="font-size:18px\;"><a href="https://kbindependent.org/2024/03/20/can-poetry-bring-key-biscayne-together-debbie-wanninkhof-thinks-so/">Can poetry bring Key Biscayne together? Debbie Wanninkhof thinks so</a>&nbsp\;(<em>KB Independent</em>)</span></li>\n</ul>\n
LOCATION:Paradise Park
UID:e.330.22536
SEQUENCE:3
DTSTAMP:20260425T141034Z
URL:http://business.keybiscaynechamber.org/events/details/sunset-poetry-share-picnic-22536
END:VEVENT

END:VCALENDAR
