BEGIN:VCALENDAR
VERSION:2.0
PRODID:-//ChamberMaster//Event Calendar 2.0//EN
METHOD:PUBLISH
X-PUBLISHED-TTL:P3D
REFRESH-INTERVAL:P3D
CALSCALE:GREGORIAN
BEGIN:VEVENT
DTSTART:20240117T230000Z
DTEND:20240118T020000Z
X-MICROSOFT-CDO-ALLDAYEVENT:FALSE
SUMMARY:State of the Village address
DESCRIPTION:Please join Mayor Joe I. Rasco\, Village Council and staff for a State of the Village address on Wednesday\, January 17\, 2024\, at 6:00 PM in the Key Biscayne Community Center Island Room.\n\n\n\nThe address will be followed by a reception around the pool deck.\n\n\n\nOne or more Councilmembers may attend this event.
X-ALT-DESC;FMTTYPE=text/html:<br />\n<br />\nPlease join Mayor Joe I. Rasco\, Village Council and staff for a State of the Village address on Wednesday\, January 17\, 2024\, at 6:00 PM in the Key Biscayne Community Center Island Room.<br />\n<br />\nThe address will be followed by a reception around the pool deck.<br />\n<br />\nOne or more Councilmembers may attend this event.
LOCATION:Key Biscayne Community Center
UID:e.330.22447
SEQUENCE:3
DTSTAMP:20260425T182945Z
URL:http://business.keybiscaynechamber.org/events/details/state-of-the-village-address-22447
END:VEVENT

END:VCALENDAR
