BEGIN:VCALENDAR
VERSION:2.0
PRODID:-//ChamberMaster//Event Calendar 2.0//EN
METHOD:PUBLISH
X-PUBLISHED-TTL:P3D
REFRESH-INTERVAL:P3D
CALSCALE:GREGORIAN
BEGIN:VEVENT
DTSTART:20191030T213000Z
DTEND:20191030T233000Z
X-MICROSOFT-CDO-ALLDAYEVENT:FALSE
SUMMARY:Spooktacular Networking Event at Historic Virginia Key Beach Park
DESCRIPTION:Join us for a Spooktacular Networking Event. The best Halloween mask wins a prize! Appetizers and beverages will be served.
X-ALT-DESC;FMTTYPE=text/html:Join us for a Spooktacular Networking Event. The best Halloween mask wins a prize! Appetizers and beverages will be served.
LOCATION:Historic Virginia Key Beach Park 4020 Virginia Beach Dr Miami\, FL 33149
UID:e.330.17480
SEQUENCE:3
DTSTAMP:20260422T034936Z
URL:http://business.keybiscaynechamber.org/events/details/spooktacular-networking-event-at-historic-virginia-key-beach-park-17480
END:VEVENT

END:VCALENDAR
