BEGIN:VCALENDAR
VERSION:2.0
PRODID:-//ChamberMaster//Event Calendar 2.0//EN
METHOD:PUBLISH
X-PUBLISHED-TTL:P3D
REFRESH-INTERVAL:P3D
CALSCALE:GREGORIAN
BEGIN:VEVENT
DTSTART:20200528T153000Z
DTEND:20200528T180000Z
X-MICROSOFT-CDO-ALLDAYEVENT:FALSE
SUMMARY:ServPro gives FREE masks & hand sanitizers in KB
DESCRIPTION:ServPro Service Bus will be in Key Biscayne to give out free face masks and hand sanitizers while promoting the safety measures given by state & local authorities at The Square Shopping Center.
X-ALT-DESC;FMTTYPE=text/html:ServPro&nbsp\;Service Bus will be in Key Biscayne to give out free face masks and hand sanitizers while promoting the safety measures given by state &amp\; local authorities at The Square Shopping Center.
LOCATION:The Square Shopping Center 260 Crandon Blvd Key Biscayne\, FL 33149
UID:e.330.18876
SEQUENCE:3
DTSTAMP:20260420T033413Z
URL:http://business.keybiscaynechamber.org/events/details/servpro-gives-free-masks-hand-sanitizers-in-kb-18876
END:VEVENT

END:VCALENDAR
