BEGIN:VCALENDAR
VERSION:2.0
PRODID:-//ChamberMaster//Event Calendar 2.0//EN
METHOD:PUBLISH
X-PUBLISHED-TTL:P3D
REFRESH-INTERVAL:P3D
CALSCALE:GREGORIAN
BEGIN:VEVENT
DTSTART:20240727T130000Z
DTEND:20240727T210000Z
X-MICROSOFT-CDO-ALLDAYEVENT:FALSE
SUMMARY:Seaview Investment Managers Personal Finance Workshop
DESCRIPTION:Please join Seaview Investment Managers for an exciting Personal Finance Workshop! What you will learn: * Setting Financial Goals * Budgeting Techniques * Debt Reduction Strategy * Wealth Accumulation * How and where to invest * Economic Insights * Retirement\, Estate and Tax Planning This in-person workshop will be conducted in English and includes lunch.\n\n\n\n Don't miss out on this opportunity to elevate your financial future.
X-ALT-DESC;FMTTYPE=text/html:<br />\n<br />\nPlease join Seaview Investment Managers for an exciting Personal Finance Workshop! What you will learn: * Setting Financial Goals * Budgeting Techniques * Debt Reduction Strategy * Wealth Accumulation * How and where to invest * Economic Insights * Retirement\, Estate and Tax Planning This in-person workshop will be conducted in English and includes lunch.<br />\n<br />\n&nbsp\;Don&#39\;t miss out on this opportunity to elevate your financial future.<span style="color: rgb(51\, 51\, 51)\; font-family: sans-serif\, Arial\, Verdana\, &quot\;Trebuchet MS&quot\;\; font-size: 13px\; background-color: rgb(255\, 255\, 255)\;">&nbsp\;</span>
LOCATION:
UID:e.330.22617
SEQUENCE:3
DTSTAMP:20260423T050650Z
URL:http://business.keybiscaynechamber.org/events/details/seaview-investment-managers-personal-finance-workshop-22617
END:VEVENT

END:VCALENDAR
