BEGIN:VCALENDAR
VERSION:2.0
PRODID:-//ChamberMaster//Event Calendar 2.0//EN
METHOD:PUBLISH
X-PUBLISHED-TTL:P3D
REFRESH-INTERVAL:P3D
CALSCALE:GREGORIAN
BEGIN:VEVENT
DTSTART:20190610T220000Z
DTEND:20190610T230000Z
X-MICROSOFT-CDO-ALLDAYEVENT:FALSE
SUMMARY:Risky Behavior in Teens & Pre-Teens Teen Talk: Series 2
DESCRIPTION:The Key Biscayne Fire Rescue Department will be hosting speakers: Cici Kelly and Hara Wachholder from The Bougainvilla House Family Therapy Center\, as they return for the action portion of our series of talks for parents\, teens and pre-teens\, to address risks facing families today. The following topics will be discussed:\n\n	Mindfulness\n	How Social Media Affects our Well-Being\n	Healthy Coping Skills\n	Correlation between anxiety and mindfulness
X-ALT-DESC;FMTTYPE=text/html:The Key Biscayne Fire Rescue Department will be hosting speakers: Cici Kelly and Hara Wachholder from The Bougainvilla House Family Therapy Center\, as they return for the action portion of our series of talks for parents\, teens and pre-teens\, to address risks facing families today. The following topics will be discussed:\n<ul>\n	<li>Mindfulness</li>\n	<li>How Social Media Affects our Well-Being</li>\n	<li>Healthy Coping Skills</li>\n	<li>Correlation between anxiety and mindfulness</li>\n</ul>\n
LOCATION:Key Biscayne Council Chambers 560 Crandon Blvd Key Biscayne\, FL 33149
UID:e.330.16379
SEQUENCE:3
DTSTAMP:20260422T125618Z
URL:http://business.keybiscaynechamber.org/events/details/risky-behavior-in-teens-pre-teens-teen-talk-series-2-16379
END:VEVENT

END:VCALENDAR
