BEGIN:VCALENDAR
VERSION:2.0
PRODID:-//ChamberMaster//Event Calendar 2.0//EN
METHOD:PUBLISH
X-PUBLISHED-TTL:P3D
REFRESH-INTERVAL:P3D
CALSCALE:GREGORIAN
BEGIN:VEVENT
DTSTART:20191127T130000Z
DTEND:20191127T200000Z
X-MICROSOFT-CDO-ALLDAYEVENT:FALSE
SUMMARY:Rat's Day Off Camp
DESCRIPTION:When Key Rats are off from school for teacher planning days and school breaks\, they can spend the day having fun in a safe environment. Each full-day program offers a variety of activities\, which may include computer lab\, movies\, arts and crafts\, games\, sports\, swimming\, filed trips and much more. Lunch is not included\, so please don't forget to bring your own. Please register in advance to ensure proper staffing and child supervision.
X-ALT-DESC;FMTTYPE=text/html:When Key Rats are off from school for teacher planning days and school breaks\, they can spend the day having fun in a safe environment. Each full-day program offers a variety of activities\, which may include computer lab\, movies\, arts and crafts\, games\, sports\, swimming\, filed trips and much more. Lunch is not included\, so please don&rsquo\;t forget to bring your own. Please register in advance to ensure proper staffing and child supervision.
LOCATION:Community Center 10 Village Green Way Key Biscayne\, FL 33149
UID:e.330.18538
SEQUENCE:3
DTSTAMP:20260421T132446Z
URL:http://business.keybiscaynechamber.org/events/details/rat-s-day-off-camp-18538
END:VEVENT

END:VCALENDAR
