BEGIN:VCALENDAR
VERSION:2.0
PRODID:-//ChamberMaster//Event Calendar 2.0//EN
METHOD:PUBLISH
X-PUBLISHED-TTL:P3D
REFRESH-INTERVAL:P3D
CALSCALE:GREGORIAN
BEGIN:VEVENT
DTSTART:20240421T110000Z
DTEND:20240421T163000Z
X-MICROSOFT-CDO-ALLDAYEVENT:FALSE
SUMMARY:Race for Our Future - Miami Earth Day 5K
DESCRIPTION:What if a 5k could change the world? Lace up your shoes and join The CLEO Institute for their annual Race for Our Future - Earth Day 5k! \n\n\n\nJoin us on Sunday\, April 21st as we come together as a community to celebrate Earth Day and highlight our environmental challenges and the solutions we must embrace. Funds raised will support climate resilience education in Miami-Dade through innovative campaigns\, our Climate Resilient Schools programs in partnership with the Miami-Dade Public Schools STEAM department\, and our Empowering Resilient Women's program geared to vulnerable communities in our county.\n\n\n\nJoin us for a walk or run around Biscayne Bay while we come together for a better & future-ready Miami!
X-ALT-DESC;FMTTYPE=text/html:<br />\n<span style="font-size:18px\;">What if a 5k could change the world? Lace up your shoes and join The CLEO Institute for their annual Race for Our Future - Earth Day 5k!&nbsp\;<br />\n<br />\nJoin us on Sunday\, April 21st as we come together as a community to celebrate Earth Day and highlight our environmental challenges and the solutions we must embrace. Funds raised will support climate resilience education in Miami-Dade through innovative campaigns\, our Climate Resilient Schools programs in partnership with the Miami-Dade Public Schools STEAM department\, and our Empowering Resilient Women&rsquo\;s program geared to vulnerable communities in our county.<br />\n<br />\nJoin us for a walk or run around Biscayne Bay while we come together for a better &amp\; future-ready Miami!</span>
LOCATION:MAST Academy
UID:e.330.22549
SEQUENCE:3
DTSTAMP:20260425T141155Z
URL:http://business.keybiscaynechamber.org/events/details/race-for-our-future-miami-earth-day-5k-22549
END:VEVENT

END:VCALENDAR
