BEGIN:VCALENDAR
VERSION:2.0
PRODID:-//ChamberMaster//Event Calendar 2.0//EN
METHOD:PUBLISH
X-PUBLISHED-TTL:P3D
REFRESH-INTERVAL:P3D
CALSCALE:GREGORIAN
BEGIN:VEVENT
DTSTART:20200402T130000Z
DTEND:20200402T170000Z
X-MICROSOFT-CDO-ALLDAYEVENT:FALSE
SUMMARY:POSTPONED: Manos del Sur Champagne Breakfast\, Fashion Show and Bazaar
DESCRIPTION:THIS EVENT HAS BEEN POSTPONED UNTIL FURTHER NOTICE.\n\nThe Annual Manos del Sur Champagne Breakfast is coming!\n\nThis is a fun event that includes amazing Bazaar vendors\, fashion show by CocoParis and lots of great raffle prizes. You can reserve a table or come with a small group and we can combine groups. Tickets are easy to buy online and priority seating is given to the first to confirm their tickets.\n\nCome out and support the children of Nicaragua\, who need us now more than ever - hope to see you there!
X-ALT-DESC;FMTTYPE=text/html:<span style="box-sizing: border-box\; font-weight: bolder\; outline: 0px\; color: rgb(255\, 0\, 0)\; font-family: Lato\, sans-serif\; font-size: 16px\; background-color: rgb(255\, 255\, 255)\;">THIS EVENT HAS BEEN POSTPONED UNTIL FURTHER NOTICE.</span><br />\nThe Annual Manos del Sur Champagne Breakfast is coming!<br />\nThis is a fun event that includes amazing Bazaar vendors\, fashion show by CocoParis and lots of great raffle prizes. You can reserve a table or come with a small group and we can combine groups. Tickets are easy to buy online and priority seating is given to the first to confirm their tickets.<br />\nCome out and support the children of Nicaragua\, who need us now more than ever - hope to see you there!
LOCATION:Rusty Pelican 3201 Rickenbacker Causeway Key Biscayne\, FL 33149
UID:e.330.18652
SEQUENCE:3
DTSTAMP:20260420T051050Z
URL:http://business.keybiscaynechamber.org/events/details/postponed-manos-del-sur-champagne-breakfast-fashion-show-and-bazaar-18652
END:VEVENT

END:VCALENDAR
