BEGIN:VCALENDAR
VERSION:2.0
PRODID:-//ChamberMaster//Event Calendar 2.0//EN
METHOD:PUBLISH
X-PUBLISHED-TTL:P3D
REFRESH-INTERVAL:P3D
CALSCALE:GREGORIAN
BEGIN:VEVENT
DTSTART:20200424T230000Z
DTEND:20200425T010000Z
X-MICROSOFT-CDO-ALLDAYEVENT:FALSE
SUMMARY:POSTPONED: Key Biscayne Piano Festival
DESCRIPTION:THIS EVENT HAS BEEN POSTPONED UNTIL FURTHER NOTICE.\n\nDaring\, provocative\, exciting\, seductive and sensitive are some of the words used to describe one of today's most formidable pianists\, Kemal Gekic\, whose playing has been acclaimed worldwide by public and critics alike.
X-ALT-DESC;FMTTYPE=text/html:<span style="color:#FF0000\;"><strong>THIS EVENT HAS BEEN POSTPONED UNTIL FURTHER NOTICE.</strong></span><br />\nDaring\, provocative\, exciting\, seductive and sensitive are some of the words used to describe one of today&rsquo\;s most formidable pianists\, <a href="https://keypianofestival.org/artists/kemal_gekic.html">Kemal Gekic</a>\, whose playing has been acclaimed worldwide by public and critics alike.
LOCATION:Key Biscayne Crossbridge Church 160 Harbor Drive Key Biscayne\, FL 33149
UID:e.330.18527
SEQUENCE:3
DTSTAMP:20260420T050921Z
URL:http://business.keybiscaynechamber.org/events/details/postponed-key-biscayne-piano-festival-04-24-2020-18527
END:VEVENT

END:VCALENDAR
