BEGIN:VCALENDAR
VERSION:2.0
PRODID:-//ChamberMaster//Event Calendar 2.0//EN
METHOD:PUBLISH
X-PUBLISHED-TTL:P3D
REFRESH-INTERVAL:P3D
CALSCALE:GREGORIAN
BEGIN:VEVENT
DTSTART:20200418T220000Z
DTEND:20200419T035500Z
X-MICROSOFT-CDO-ALLDAYEVENT:FALSE
SUMMARY:POSTPONED: Feria de Sevilla 2020
DESCRIPTION:THIS EVENT HAS BEEN POSTPONED UNTIL FURTHER NOTICE.\n\nThe eXpats Club invites you to enjoy a Flamenco night with live guitars\, Sevillanas\, Tapas\, Rebujito\, wine and much more... bringing you the flavor of the "Feria de Sevilla" from Spain. Come dance and enjoy a typical Spanish night!
X-ALT-DESC;FMTTYPE=text/html:<strong><span style="color:#FF0000\;">THIS EVENT HAS BEEN POSTPONED UNTIL FURTHER NOTICE.</span></strong><br />\nThe eXpats Club invites you to enjoy a Flamenco night with live guitars\, Sevillanas\, Tapas\, Rebujito\, wine and much more... bringing you the flavor of the &quot\;Feria de Sevilla&quot\; from Spain. Come dance and enjoy a typical Spanish night!
LOCATION:
UID:e.330.18649
SEQUENCE:3
DTSTAMP:20260420T050445Z
URL:http://business.keybiscaynechamber.org/events/details/postponed-feria-de-sevilla-2020-18649
END:VEVENT

END:VCALENDAR
