BEGIN:VCALENDAR
VERSION:2.0
PRODID:-//ChamberMaster//Event Calendar 2.0//EN
METHOD:PUBLISH
X-PUBLISHED-TTL:P3D
REFRESH-INTERVAL:P3D
CALSCALE:GREGORIAN
BEGIN:VEVENT
DTSTART:20191110T220000Z
DTEND:20191111T020000Z
X-MICROSOFT-CDO-ALLDAYEVENT:FALSE
SUMMARY:Oye Como Va!
DESCRIPTION:Sing and dance to "our music"!\n\nPiaf\, Celia\, Sinatra\, Presley\, Chopin\, Gardel\, Simon Diaz\, Billo's... Live piano and percussion\n\n\n\nTo benefit:\n\nUM Miller School of Medicine\n\nDept. of Neurosurgery\n\nThe Picaza Lectureships
X-ALT-DESC;FMTTYPE=text/html:Sing and dance to &quot\;our music&quot\;!<br />\nPiaf\, Celia\, Sinatra\, Presley\, Chopin\, Gardel\, Simon Diaz\, Billo&#39\;s... Live piano and percussion<br />\n<br />\nTo benefit:<br />\nUM Miller School of Medicine<br />\nDept. of Neurosurgery<br />\nThe Picaza Lectureships
LOCATION:Novecento Restaurant 620 Crandon Boulevard Key Biscayne\, FL 33149
UID:e.330.18519
SEQUENCE:3
DTSTAMP:20260421T180327Z
URL:http://business.keybiscaynechamber.org/events/details/oye-como-va-18519
END:VEVENT

END:VCALENDAR
