BEGIN:VCALENDAR
VERSION:2.0
PRODID:-//ChamberMaster//Event Calendar 2.0//EN
METHOD:PUBLISH
X-PUBLISHED-TTL:P3D
REFRESH-INTERVAL:P3D
CALSCALE:GREGORIAN
BEGIN:VEVENT
DTSTART:20211202T230000Z
DTEND:20211203T003000Z
X-MICROSOFT-CDO-ALLDAYEVENT:FALSE
SUMMARY:Outdoor Film Screening of "The Biggest Little Farm"
DESCRIPTION:December 5th is "World Soil Day". As a celebration\, A Zero Waste Culture invites you to an outdoor film screening of The Biggest Little Farm at Youth Camp at Bills Baggs Cape Florida State Park.\n\n\n\nThe Biggest Little Farm is a beautiful documentary that demonstrates farming's ability to completely regenerate soil. It shows how traditional and biodynamic agriculture can transform damaged landscapes\, rebuild lost ecosystems and help fight climate change.
X-ALT-DESC;FMTTYPE=text/html:<br />\n<br />\nDecember 5th is &ldquo\;World Soil Day&rdquo\;. As a celebration\, <a href="https://azerowasteculture.org/">A Zero Waste Culture</a> invites you to an outdoor film screening of The Biggest Little Farm at Youth Camp at Bills Baggs Cape Florida State Park.<br />\n<br />\nThe Biggest Little Farm is a beautiful documentary that demonstrates farming&rsquo\;s ability to completely regenerate soil. It shows how traditional and biodynamic agriculture can transform damaged landscapes\, rebuild lost ecosystems and help fight climate change.
LOCATION:Bills Baggs Cape Florida State Park
UID:e.330.21359
SEQUENCE:3
DTSTAMP:20260419T152239Z
URL:http://business.keybiscaynechamber.org/events/details/outdoor-film-screening-of-the-biggest-little-farm-21359
END:VEVENT

END:VCALENDAR
