BEGIN:VCALENDAR
VERSION:2.0
PRODID:-//ChamberMaster//Event Calendar 2.0//EN
METHOD:PUBLISH
X-PUBLISHED-TTL:P3D
REFRESH-INTERVAL:P3D
CALSCALE:GREGORIAN
BEGIN:VEVENT
DTSTART;VALUE=DATE:20240301
DTEND;VALUE=DATE:20240303
TRANSP:TRANSPARENT
X-MICROSOFT-CDO-ALLDAYEVENT:TRUE
SUMMARY:Open House Miami
DESCRIPTION:Gain a new perspective on Miami's architectural wonders at Open House Miami\, a free public festival organized by The Miami Center for Architecture & Design (MCAD). As part of the Open House Worldwide global initiative\, Open House Miami is set to debut on March 1-2 featuring self-guided walks\, exclusive behind-the-scenes tours\, diverse talks\, workshops and themed explorations covering historic preservation\, open spaces\, parks\, resiliency efforts and South Florida culture.\n\n\n\nThe festival spans various cities and neighborhoods in the Greater Miami area\, including Miami Beach\, Coral Gables\, Opa Locka\, Wynwood\, Design District\, the Redlands and more. Whether you're a resident or a visitor\, this is a unique opportunity to immerse yourself in Miami's rich history\, architectural marvels and vibrant cultural scene.\n\n\n\nOpen House Miami is presented byThe Miami Center for Architecture & Design (MCAD) in collaboration with the American Institute of Architects (AIA Miami)\, Greater Miami Convention & Visitors Bureau (GMCVB) and the Miami Beach Visitor and Convention Authority (MBVCA).
X-ALT-DESC;FMTTYPE=text/html:Gain a new perspective on Miami&#39\;s architectural wonders at Open House Miami\, a free public festival organized by The Miami Center for Architecture &amp\; Design (MCAD). As part of the Open House Worldwide global initiative\, Open House Miami is set to debut on March 1-2 featuring self-guided walks\, exclusive behind-the-scenes tours\, diverse talks\, workshops and themed explorations covering historic preservation\, open spaces\, parks\, resiliency efforts and South Florida culture.<br />\n<br />\nThe festival spans various cities and neighborhoods in the Greater Miami area\, including Miami Beach\, Coral Gables\, Opa Locka\, Wynwood\, Design District\, the Redlands and more. Whether you&#39\;re a resident or a visitor\, this is a unique opportunity to immerse yourself in Miami&#39\;s rich history\, architectural marvels and vibrant cultural scene.<br />\n<br />\nOpen House Miami is presented byThe Miami Center for Architecture &amp\; Design (MCAD) in collaboration with the American Institute of Architects (AIA Miami)\, Greater Miami Convention &amp\; Visitors Bureau (GMCVB) and the Miami Beach Visitor and Convention Authority (MBVCA).
LOCATION:Multiple locations throughout Greater Miami
UID:e.330.22482
SEQUENCE:3
DTSTAMP:20260425T153439Z
URL:http://business.keybiscaynechamber.org/events/details/open-house-miami-22482
END:VEVENT

END:VCALENDAR
