BEGIN:VCALENDAR
VERSION:2.0
PRODID:-//ChamberMaster//Event Calendar 2.0//EN
METHOD:PUBLISH
X-PUBLISHED-TTL:P3D
REFRESH-INTERVAL:P3D
CALSCALE:GREGORIAN
BEGIN:VEVENT
DTSTART:20240510T150000Z
DTEND:20240510T190000Z
X-MICROSOFT-CDO-ALLDAYEVENT:FALSE
SUMMARY:Oopa Lala Kids Bazaar
DESCRIPTION:Join us at Oopa Lala for an unforgettable Mother's Day celebration where we're bringing together all of your favorite Key Biscayne mom brands under one roof!\n\n\n\nDelight in a day dedicated to moms with exclusive access to the best local offerings. This is the perfect opportunity to pamper\, appreciate\, and celebrate the wonderful moms in your life\, all in the charming ambiance of Oopa Lala.
X-ALT-DESC;FMTTYPE=text/html:<br />\n<br />\nJoin us at Oopa Lala for an unforgettable Mother&#39\;s Day celebration where we&#39\;re bringing together all of your favorite Key Biscayne mom brands under one roof!<br />\n<br />\nDelight in a day dedicated to moms with exclusive access to the best local offerings. This is the perfect opportunity to pamper\, appreciate\, and celebrate the wonderful moms in your life\, all in the charming ambiance of Oopa Lala.
LOCATION:Oopa Lala
UID:e.330.22567
SEQUENCE:3
DTSTAMP:20260425T115505Z
URL:http://business.keybiscaynechamber.org/events/details/oopa-lala-kids-bazaar-22567
END:VEVENT

END:VCALENDAR
