BEGIN:VCALENDAR
VERSION:2.0
PRODID:-//ChamberMaster//Event Calendar 2.0//EN
METHOD:PUBLISH
X-PUBLISHED-TTL:P3D
REFRESH-INTERVAL:P3D
CALSCALE:GREGORIAN
BEGIN:VEVENT
DTSTART:20191122T000000Z
DTEND:20191122T020000Z
X-MICROSOFT-CDO-ALLDAYEVENT:FALSE
SUMMARY:Office Hours with Mayor Davey
DESCRIPTION:Office Hours with Mayor Davey
X-ALT-DESC;FMTTYPE=text/html:Office Hours with Mayor Davey
LOCATION:Key Biscayne Village Hall 88 West McIntyre St\, Community Room 120 Key Biscayne\, FL 33149
UID:e.330.18540
SEQUENCE:3
DTSTAMP:20260421T230339Z
URL:http://business.keybiscaynechamber.org/events/details/office-hours-with-mayor-davey-18540
END:VEVENT

END:VCALENDAR
