BEGIN:VCALENDAR
VERSION:2.0
PRODID:-//ChamberMaster//Event Calendar 2.0//EN
METHOD:PUBLISH
X-PUBLISHED-TTL:P3D
REFRESH-INTERVAL:P3D
CALSCALE:GREGORIAN
BEGIN:VEVENT
DTSTART:20211209T210000Z
DTEND:20211210T010000Z
X-MICROSOFT-CDO-ALLDAYEVENT:FALSE
SUMMARY:Nouba Boutique Christmas Sparkling Trunk Show
DESCRIPTION:Join Nouba Boutique for a Christmas Sparkling Trunk Show with bubbles & bites. Special Guest - Fabulous jewelry by JCM LONDON.
X-ALT-DESC;FMTTYPE=text/html:<br />\n<br />\nJoin Nouba Boutique for a Christmas Sparkling Trunk Show with bubbles &amp\; bites. Special Guest - Fabulous jewelry by <a href="https://www.instagram.com/jcmlondon/">JCM LONDON</a>.
LOCATION:Nouba Boutique
UID:e.330.21370
SEQUENCE:3
DTSTAMP:20260419T141746Z
URL:http://business.keybiscaynechamber.org/events/details/nouba-boutique-christmas-sparkling-trunk-show-21370
END:VEVENT

END:VCALENDAR
