BEGIN:VCALENDAR
VERSION:2.0
PRODID:-//ChamberMaster//Event Calendar 2.0//EN
METHOD:PUBLISH
X-PUBLISHED-TTL:P3D
REFRESH-INTERVAL:P3D
CALSCALE:GREGORIAN
BEGIN:VEVENT
DTSTART:20240420T190000Z
DTEND:20240420T220000Z
X-MICROSOFT-CDO-ALLDAYEVENT:FALSE
SUMMARY:National Water Dance
DESCRIPTION:Join us Earth Day Weekend at Marjory Stoneman Douglas Biscayne Nature Park for an unforgettable arts adventure on the sands of Crandon Beach Park with National Water Dance. A catalyst that encourages ongoing engagement between artists and the environment\, National Water Dance is a biannual event across the United States that brings attention to our waterways by recruiting dancers\, musicians and visual artists to unite for action in a simultaneous performance around bodies of water.
X-ALT-DESC;FMTTYPE=text/html:<br />\n<br />\n<span style="font-size:16px\;">Join us Earth Day Weekend at Marjory Stoneman Douglas Biscayne Nature Park for an unforgettable arts adventure on the sands of Crandon Beach Park with National Water Dance. A catalyst that encourages ongoing engagement between artists and the environment\, National Water Dance is a biannual event across the United States that brings attention to our waterways by recruiting dancers\, musicians and visual artists to unite for action in a simultaneous performance around bodies of water.</span>
LOCATION:Marjory Stoneman Douglas Biscayne Nature Center
UID:e.330.22553
SEQUENCE:3
DTSTAMP:20260425T141059Z
URL:http://business.keybiscaynechamber.org/events/details/national-water-dance-04-20-2024-22553
END:VEVENT

END:VCALENDAR
