BEGIN:VCALENDAR
VERSION:2.0
PRODID:-//ChamberMaster//Event Calendar 2.0//EN
METHOD:PUBLISH
X-PUBLISHED-TTL:P3D
REFRESH-INTERVAL:P3D
CALSCALE:GREGORIAN
BEGIN:VEVENT
DTSTART:20210522T223000Z
DTEND:20210523T010000Z
X-MICROSOFT-CDO-ALLDAYEVENT:FALSE
SUMMARY:Movie Night & Parents Night Out
DESCRIPTION:Get your friends and family together for a Movie Night (featuring Raya and the Last Dragon) with Pizza & Refreshments. \n\n\n\nLimited spots\, so hurry up! Open to all Key Biscayne community.
X-ALT-DESC;FMTTYPE=text/html:<br />\nGet your friends and family together for a Movie Night (featuring Raya and the Last Dragon) with Pizza &amp\; Refreshments.&nbsp\;<br />\n<br />\nLimited spots\, so hurry up! Open to all Key Biscayne community.
LOCATION:Alliance Jiu-Jitsu Key Biscayne 929 Crandon Blvd (L'Esplande)
UID:e.330.20314
SEQUENCE:3
DTSTAMP:20260420T082030Z
URL:http://business.keybiscaynechamber.org/events/details/movie-night-parents-night-out-20314
END:VEVENT

END:VCALENDAR
