BEGIN:VCALENDAR
VERSION:2.0
PRODID:-//ChamberMaster//Event Calendar 2.0//EN
METHOD:PUBLISH
X-PUBLISHED-TTL:P3D
REFRESH-INTERVAL:P3D
CALSCALE:GREGORIAN
BEGIN:VEVENT
DTSTART:20220818T210000Z
DTEND:20220818T230000Z
X-MICROSOFT-CDO-ALLDAYEVENT:FALSE
SUMMARY:Move365 Official Grand Opening
DESCRIPTION:Join Move365 for their grand opening celebration at L'Esplanade Mall. Guests will enjoy lite bites\, drinks\, a studio tour\, instructor meet & greet\, and a ribbon cutting ceremony at 6pm\, as well as cool giveaways!\n\n\n\nThis new boutique studio specializing in Pilates\, Yoga\, Strength Training\, and Dynamic Movement will have a soft opening week starting August 9th and ending on August 18th. There will be a limited schedule with discounted and/or free classes. The soft opening will be a great opportunity for people to meet Move365's great instructors\, check out the space and request any information.
X-ALT-DESC;FMTTYPE=text/html:<br />\nJoin Move365 for their grand opening celebration at L&#39\;Esplanade Mall. Guests will enjoy lite bites\, drinks\, a studio tour\, instructor meet &amp\; greet\, and a ribbon cutting ceremony at 6pm\, as well as cool giveaways!<br />\n<br />\nThis new boutique studio specializing in Pilates\, Yoga\, Strength Training\, and Dynamic Movement will have a soft opening week starting August 9th and ending on August 18th. There will be a limited schedule with discounted and/or free classes. The soft opening will be a great opportunity for people to meet Move365&#39\;s great instructors\, check out the space and request any information.
LOCATION:L'Esplanade Mall
UID:e.330.21852
SEQUENCE:3
DTSTAMP:20260421T100234Z
URL:http://business.keybiscaynechamber.org/events/details/move365-official-grand-opening-21852
END:VEVENT

END:VCALENDAR
