BEGIN:VCALENDAR
VERSION:2.0
PRODID:-//ChamberMaster//Event Calendar 2.0//EN
METHOD:PUBLISH
X-PUBLISHED-TTL:P3D
REFRESH-INTERVAL:P3D
CALSCALE:GREGORIAN
BEGIN:VEVENT
DTSTART:20240512T163000Z
DTEND:20240512T193000Z
X-MICROSOFT-CDO-ALLDAYEVENT:FALSE
SUMMARY:Mother's Day Brunch at Light Keepers
DESCRIPTION:Celebrate Mother's Day in style at Light Keepers at The Ritz-Carlton Key Biscayne\, where elegance and culinary excellence meet.\n\n\n\nTreat your mother to an exquisite dining experience\, featuring an opulent spread that promises to delight every palate.
X-ALT-DESC;FMTTYPE=text/html:<br />\n<br />\nCelebrate Mother&#39\;s Day in style at Light Keepers at The Ritz-Carlton Key Biscayne\, where elegance and culinary excellence meet.<br />\n<br />\nTreat your mother to an exquisite dining experience\, featuring an opulent spread that promises to delight every palate.
LOCATION:The Ritz-Carlton Key Biscayne\, Miami
UID:e.330.22557
SEQUENCE:3
DTSTAMP:20260425T115951Z
URL:http://business.keybiscaynechamber.org/events/details/mother-s-day-brunch-at-light-keepers-22557
END:VEVENT

END:VCALENDAR
