BEGIN:VCALENDAR
VERSION:2.0
PRODID:-//ChamberMaster//Event Calendar 2.0//EN
METHOD:PUBLISH
X-PUBLISHED-TTL:P3D
REFRESH-INTERVAL:P3D
CALSCALE:GREGORIAN
BEGIN:VEVENT
DTSTART:20240102T140000Z
DTEND:20240105T200000Z
X-MICROSOFT-CDO-ALLDAYEVENT:FALSE
SUMMARY:Minds of Tomorrow Winter Camps 2024
DESCRIPTION:Winter Camps. Fantasy Quest\n\n\nWinter Camps. Fantasy Quest A magical world of mythical creatures\, enchanted landscapes\, and epic adventures awaits your kids. Step into a world where curiosity is your compass and innovation is your sword!\n\n\n\nOur tech camp offers a unique blend of hands-on learning and fantastical adventures\, guiding you through a mythical landscape of coding\, robotics\, and digital creativity. Conquer challenges\, earn experience points\, and level up your skills in a quest for unparalleled knowledge.\n\n\n\nExample of activities Robotics: Quidditch Get ready to soar! Kids will join Quidditch teams on the field\, playing a robotic version to claim victory in this wizarding world-inspired game.\n\n\n\nGames: Archery Contest Channel your inner archer! Kids will craft their own bows and arrows\, then compete in an epic archery contest. Aim for the bullseye and let the games begin!\n\n\n\nDigital Media: Sky's Flight Children will create an animation of a dragon or pegasus flying through the air of their city.\n\n\n\nCrafting: Design Your Crest & Shields Time to create family legacies! Kids will design a unique family crest and bring it to life by crafting medieval shields using cardboard\, foil\, and paint. Let imaginations run wild!
X-ALT-DESC;FMTTYPE=text/html:<h1 style="box-sizing: border-box\; font-size: 42px\; margin: 0px\; font-family: Merriweather\, sans-serif\; font-weight: 400\; line-height: 1.4\; color: rgb(85\, 85\, 85)\; letter-spacing: -1px\; outline: 0px\; background-color: rgb(255\, 255\, 255)\;"><br />\n<br />\nWinter Camps. Fantasy Quest</h1>\n<br />\nWinter Camps. Fantasy Quest A magical world of mythical creatures\, enchanted landscapes\, and epic adventures awaits your kids. Step into a world where curiosity is your compass and innovation is your sword!<br />\n<br />\nOur tech camp offers a unique blend of hands-on learning and fantastical adventures\, guiding you through a mythical landscape of coding\, robotics\, and digital creativity. Conquer challenges\, earn experience points\, and level up your skills in a quest for unparalleled knowledge.<br />\n<br />\nExample of activities Robotics: Quidditch Get ready to soar! Kids will join Quidditch teams on the field\, playing a robotic version to claim victory in this wizarding world-inspired game.<br />\n<br />\nGames: Archery Contest Channel your inner archer! Kids will craft their own bows and arrows\, then compete in an epic archery contest. Aim for the bullseye and let the games begin!<br />\n<br />\nDigital Media: Sky&#39\;s Flight Children will create an animation of a dragon or pegasus flying through the air of their city.<br />\n<br />\nCrafting: Design Your Crest &amp\; Shields Time to create family legacies! Kids will design a unique family crest and bring it to life by crafting medieval shields using cardboard\, foil\, and paint. Let imaginations run wild!
LOCATION:Minds of Tomorrow
UID:e.330.22435
SEQUENCE:3
DTSTAMP:20260425T182813Z
URL:http://business.keybiscaynechamber.org/events/details/minds-of-tomorrow-winter-camps-2024-22435
END:VEVENT

END:VCALENDAR
