BEGIN:VCALENDAR
VERSION:2.0
PRODID:-//ChamberMaster//Event Calendar 2.0//EN
METHOD:PUBLISH
X-PUBLISHED-TTL:P3D
REFRESH-INTERVAL:P3D
CALSCALE:GREGORIAN
BEGIN:VEVENT
DTSTART:20191123T190000Z
DTEND:20191123T230000Z
X-MICROSOFT-CDO-ALLDAYEVENT:FALSE
SUMMARY:Mind\, Body & Music at New World Symphony
DESCRIPTION:Baptist Health is proud to partner with the New World Symphony for a free community-wide celebration of "Mind\, Body and Music" on Miami Beach. This engaging\, power-packed event activates the Frank Gehry-designed\, state-of-the-art campus and SoundScape Park with performances\, demonstrations and healthy activities.\n\n\n\nExplore\, listen and learn with:\n\n  New World Symphony Rehearsal Observations\n\n  Yoga and Zumba classes\n\n  Health Screenings\n\n  Instrument Zoo and Kid Games\n\n  Chef demonstrations\n\n  Behind the Scenes with NWS's Library and Audio Engineer Fellows\n\n  Performances by Young Musicians Unite\n\n  NIKE Bootcamp\n\n  Miami HEAT Trophy Presentation
X-ALT-DESC;FMTTYPE=text/html:Baptist Health is proud to partner with the New World Symphony for a free community-wide celebration of &ldquo\;Mind\, Body and Music&rdquo\; on Miami Beach. This engaging\, power-packed event activates the Frank Gehry-designed\, state-of-the-art campus and SoundScape Park with performances\, demonstrations and healthy activities.<br />\n<br />\nExplore\, listen and learn with:<br />\n&middot\; New World Symphony Rehearsal Observations<br />\n&middot\; Yoga and Zumba classes<br />\n&middot\; Health Screenings<br />\n&middot\; Instrument Zoo and Kid Games<br />\n&middot\; Chef demonstrations<br />\n&middot\; Behind the Scenes with NWS&#39\;s Library and Audio Engineer Fellows<br />\n&middot\; Performances by Young Musicians Unite<br />\n&middot\; NIKE Bootcamp<br />\n&middot\; Miami HEAT Trophy Presentation
LOCATION:New World Symphony
UID:e.330.18546
SEQUENCE:3
DTSTAMP:20260421T134015Z
URL:http://business.keybiscaynechamber.org/events/details/mind-body-music-at-new-world-symphony-18546
END:VEVENT

END:VCALENDAR
