BEGIN:VCALENDAR
VERSION:2.0
PRODID:-//ChamberMaster//Event Calendar 2.0//EN
METHOD:PUBLISH
X-PUBLISHED-TTL:P3D
REFRESH-INTERVAL:P3D
CALSCALE:GREGORIAN
BEGIN:VEVENT
DTSTART:20240305T223000Z
DTEND:20240306T045500Z
X-MICROSOFT-CDO-ALLDAYEVENT:FALSE
SUMMARY:Miami Waterkeeper State of the Water
DESCRIPTION:SAVE THE DATE for Miami Waterkeeper's State of the Water event.\n\n\n\n\n\n\n\nJoin Miami Waterkeeper for a panel discussion with community leaders to talk about South Florida's coral reefs and solutions to make our community more resilient.\n\n\n\nHors d'oeuvres and drinks will be provided.\n\n\n\nInterested in sponsoring the event? \n\nContact Jaimee Spector at jaimee@miamiwaterkeeper.org\n\n\n\nBusiness casual attire.
X-ALT-DESC;FMTTYPE=text/html:SAVE THE DATE for Miami Waterkeeper&#39\;s State of the Water event.<br />\n<br />\n<br />\n<br />\nJoin Miami Waterkeeper for a panel discussion with community leaders to talk about South Florida&#39\;s coral reefs and solutions to make our community more resilient.<br />\n<br />\nHors d&#39\;oeuvres and drinks will be provided.<br />\n<br />\nInterested in sponsoring the event?&nbsp\;<br />\nContact Jaimee Spector at <a href="mailto:Interested in sponsoring the event?  Contact Jaimee Spector at jaimee@miamiwaterkeeper.org?subject=Sponsorship%20Inquiry">jaimee@miamiwaterkeeper.org</a><br />\n<br />\nBusiness casual attire.
LOCATION:
UID:e.330.22441
SEQUENCE:3
DTSTAMP:20260425T165901Z
URL:http://business.keybiscaynechamber.org/events/details/miami-waterkeeper-state-of-the-water-22441
END:VEVENT

END:VCALENDAR
