BEGIN:VCALENDAR
VERSION:2.0
PRODID:-//ChamberMaster//Event Calendar 2.0//EN
METHOD:PUBLISH
X-PUBLISHED-TTL:P3D
REFRESH-INTERVAL:P3D
CALSCALE:GREGORIAN
BEGIN:VEVENT
DTSTART:20200418T120000Z
DTEND:20200418T210000Z
X-MICROSOFT-CDO-ALLDAYEVENT:FALSE
SUMMARY:Miami Dragon Boat Festival
DESCRIPTION:The inaugural Miami Dragon Boat Festival is the perfect opportunity to form local groups to try dragon boating\, alongside some of the best teams in Florida. GWN in partnership with Save Our Sisters Miami. A portion of the proceeds help support their program as they introduce breast cancer survivors to the sport. Also featuring a Health and Wellness Village\, where participants and spectators can receive products and services to help maintain a healthy lifestyle. No experience necessary!
X-ALT-DESC;FMTTYPE=text/html:The inaugural Miami Dragon Boat Festival is the perfect opportunity to form local groups to try dragon boating\, alongside some of the best teams in Florida. GWN in partnership with Save Our Sisters Miami. A portion of the proceeds help support their program as they introduce breast cancer survivors to the sport. Also featuring a Health and Wellness Village\, where participants and spectators can receive products and services to help maintain a healthy lifestyle. No experience necessary!
LOCATION:Miami Marine Stadium 3501 Rickenbacker Causeway Key Biscayne\, Miami 33149
UID:e.330.16472
SEQUENCE:3
DTSTAMP:20260420T071301Z
URL:http://business.keybiscaynechamber.org/events/details/miami-dragon-boat-festival-16472
END:VEVENT

END:VCALENDAR
