BEGIN:VCALENDAR
VERSION:2.0
PRODID:-//ChamberMaster//Event Calendar 2.0//EN
METHOD:PUBLISH
X-PUBLISHED-TTL:P3D
REFRESH-INTERVAL:P3D
CALSCALE:GREGORIAN
BEGIN:VEVENT
DTSTART:20191205T223000Z
DTEND:20191206T010000Z
X-MICROSOFT-CDO-ALLDAYEVENT:FALSE
SUMMARY:Mercy Hospital's Tree Lighting Event by the Bay
DESCRIPTION:~ Complimentary photo with Santa\n\n~ Special Performances\n\n~ Train Rides\n\n~ FREE hot chocolate and churros\n\n~ Pizza available for purchase
X-ALT-DESC;FMTTYPE=text/html:~ Complimentary photo with Santa<br />\n~ Special Performances<br />\n~ Train Rides<br />\n~ FREE hot chocolate and churros<br />\n~ Pizza available for purchase
LOCATION:Mercy Campus\, South Shore by the Bay 3663 South Miami Ave\, Miami FREE parking
UID:e.330.18557
SEQUENCE:3
DTSTAMP:20260421T091004Z
URL:http://business.keybiscaynechamber.org/events/details/mercy-hospital-s-tree-lighting-event-by-the-bay-18557
END:VEVENT

END:VCALENDAR
