BEGIN:VCALENDAR
VERSION:2.0
PRODID:-//ChamberMaster//Event Calendar 2.0//EN
METHOD:PUBLISH
X-PUBLISHED-TTL:P3D
REFRESH-INTERVAL:P3D
CALSCALE:GREGORIAN
BEGIN:VEVENT
DTSTART:20190624T130000Z
DTEND:20190628T170000Z
X-MICROSOFT-CDO-ALLDAYEVENT:FALSE
SUMMARY:Marine Biology Summer Camp
DESCRIPTION:Professor Loisel has taught marine biology to students of all ages for more than 3 decades. During camp\, kids will explore the rocky inter-tidal zone at Bear Cut\, learn about interesting marine animals\, visit the Miami Seaquarium\, learn to tag fish for scientific research and much more.
X-ALT-DESC;FMTTYPE=text/html:Professor Loisel has taught marine biology to students of all ages for more than 3 decades. During camp\, kids will explore the rocky inter-tidal zone at Bear Cut\, learn about interesting marine animals\, visit the Miami Seaquarium\, learn to tag fish for scientific research and much more.&nbsp\;
LOCATION:Community Center 10 Village Green Way Key Biscayne
UID:e.330.9050
SEQUENCE:3
DTSTAMP:20260422T125336Z
URL:http://business.keybiscaynechamber.org/events/details/marine-biology-summer-camp-08-14-2017-9050
END:VEVENT

END:VCALENDAR
