BEGIN:VCALENDAR
VERSION:2.0
PRODID:-//ChamberMaster//Event Calendar 2.0//EN
METHOD:PUBLISH
X-PUBLISHED-TTL:P3D
REFRESH-INTERVAL:P3D
CALSCALE:GREGORIAN
BEGIN:VEVENT
DTSTART:20240401T130000Z
DTEND:20240405T170000Z
X-MICROSOFT-CDO-ALLDAYEVENT:FALSE
SUMMARY:Marine Biology Spring Camp
DESCRIPTION:The Key Biscayne Community Center presents Marine Biology Spring Camp 2024.\n\n\n\nDuring camp\, kids will explore the inter-tidal zone at Bear Cut\, learn about interesting marine animals\, learn to tag fish for scientific research and much more! Participants must register for the entire week.\n\n\n\nBoys and Girls\, ages 8 - 14.\n\n\n\nProfessor Loisel has taught marine biology to students of all ages for more than five decades and was featured in a Discovery Science Channel Series.
X-ALT-DESC;FMTTYPE=text/html:<br />\nThe Key Biscayne Community Center presents Marine Biology Spring Camp 2024.<br />\n<br />\nDuring camp\, kids will explore the inter-tidal zone at Bear Cut\, learn about interesting marine animals\, learn to tag fish for scientific research and much more! Participants must register for the entire week.<br />\n<br />\nBoys and Girls\, ages 8 - 14.<br />\n<br />\n<em>Professor Loisel has taught marine biology to students of all ages for more than five decades and was featured in a Discovery Science Channel Series.</em>
LOCATION:Key Biscayne Community Center
UID:e.330.22517
SEQUENCE:3
DTSTAMP:20260425T141037Z
URL:http://business.keybiscaynechamber.org/events/details/marine-biology-spring-camp-22517
END:VEVENT

END:VCALENDAR
