BEGIN:VCALENDAR
VERSION:2.0
PRODID:-//ChamberMaster//Event Calendar 2.0//EN
METHOD:PUBLISH
X-PUBLISHED-TTL:P3D
REFRESH-INTERVAL:P3D
CALSCALE:GREGORIAN
BEGIN:VEVENT
DTSTART:20240120T180000Z
DTEND:20240121T000000Z
X-MICROSOFT-CDO-ALLDAYEVENT:FALSE
SUMMARY:Low N Clean on the Bay
DESCRIPTION:Low N Clean on the Bay is an Outdoor Static Car Show with some of Florida's nicest cars\, Food Trucks\, Music\, Vendors\, Awards\, 2-Step Comp and more TBA!
X-ALT-DESC;FMTTYPE=text/html:<br />\n<br />\nLow N Clean on the Bay is an Outdoor Static Car Show with some of Florida&#39\;s nicest cars\, Food Trucks\, Music\, Vendors\, Awards\, 2-Step Comp and more TBA!
LOCATION:Miami Marine Stadium
UID:e.330.22472
SEQUENCE:3
DTSTAMP:20260425T182629Z
URL:http://business.keybiscaynechamber.org/events/details/low-n-clean-on-the-bay-22472
END:VEVENT

END:VCALENDAR
