BEGIN:VCALENDAR
VERSION:2.0
PRODID:-//ChamberMaster//Event Calendar 2.0//EN
METHOD:PUBLISH
X-PUBLISHED-TTL:P3D
REFRESH-INTERVAL:P3D
CALSCALE:GREGORIAN
BEGIN:VEVENT
DTSTART:20240105T213000Z
DTEND:20240105T223000Z
X-MICROSOFT-CDO-ALLDAYEVENT:FALSE
SUMMARY:La Noche de los Reyes Magos
DESCRIPTION:Come celebrate the arrival of the Three Kings from the East. The parade begins at 4:45pm and will pass by St. Agnes\, Crandon Blvd\, Mashta Rd\, Monaco Fountains by the base of the Key Biscayne Christmas tree. Rodilla will be present with the sale of typical Spanish roscon and hot chocolate.\n\n\n\nVen a celebrar la llegada de los Reyes Magos de Oriente. El desfile empieza a las 4:45pm y pasara por St. Agnes\, Crandon Blvd\, Mashta Rd\, Monaco Fountains\, y al pie del arbol de navidad de Key Biscayne. Rodilla estara presente con venta de roscon tipico espanol y chocolate caliente.
X-ALT-DESC;FMTTYPE=text/html:<br />\n<br />\n&#8203\;Come celebrate the arrival of the Three Kings from the East. The parade begins at 4:45pm and will pass by St. Agnes\, Crandon Blvd\, Mashta Rd\, Monaco Fountains by the base of the Key Biscayne Christmas tree. Rodilla will be present with the sale of typical Spanish roscon and hot chocolate.<br />\n<br />\nVen a celebrar la llegada de los Reyes Magos de Oriente. El desfile empieza a las 4:45pm y pasara por St. Agnes\, Crandon Blvd\, Mashta Rd\, Monaco Fountains\, y al pie del arbol de navidad de Key Biscayne. Rodilla estara presente con venta de roscon tipico espanol y chocolate caliente.<br />\n<br />\n&nbsp\;
LOCATION:Monaco Fountain (by the Xmas Tree)
UID:e.330.22437
SEQUENCE:3
DTSTAMP:20260425T182752Z
URL:http://business.keybiscaynechamber.org/events/details/la-noche-de-los-reyes-magos-22437
END:VEVENT

END:VCALENDAR
