BEGIN:VCALENDAR
VERSION:2.0
PRODID:-//ChamberMaster//Event Calendar 2.0//EN
METHOD:PUBLISH
X-PUBLISHED-TTL:P3D
REFRESH-INTERVAL:P3D
CALSCALE:GREGORIAN
BEGIN:VEVENT
DTSTART:20191205T163000Z
DTEND:20191205T193000Z
X-MICROSOFT-CDO-ALLDAYEVENT:FALSE
SUMMARY:Key Biscayne Woman's Club Holiday Party
DESCRIPTION:Key Biscayne Woman's Club Holiday Party fundraiser to support Miami Bridge
X-ALT-DESC;FMTTYPE=text/html:Key Biscayne Woman&#39\;s Club Holiday Party fundraiser to support Miami Bridge
LOCATION:Grand Bay Club 425 Grand Bay Dr Key Biscayne\, FL 33149
UID:e.330.16466
SEQUENCE:3
DTSTAMP:20260421T123255Z
URL:http://business.keybiscaynechamber.org/events/details/key-biscayne-woman-s-club-holiday-party-16466
END:VEVENT

END:VCALENDAR
