BEGIN:VCALENDAR
VERSION:2.0
PRODID:-//ChamberMaster//Event Calendar 2.0//EN
METHOD:PUBLISH
X-PUBLISHED-TTL:P3D
REFRESH-INTERVAL:P3D
CALSCALE:GREGORIAN
BEGIN:VEVENT
DTSTART:20190323T130000Z
DTEND:20190323T180000Z
X-MICROSOFT-CDO-ALLDAYEVENT:FALSE
SUMMARY:Key Biscayne Woman's Club Bake Sale
DESCRIPTION:Key Biscayne Woman's Club fundraising Spring Bake Sale - Homemade bakery items for sale.  Proceeds for scholarships for local students.
X-ALT-DESC;FMTTYPE=text/html:Key Biscayne Woman&#39\;s Club fundraising Spring Bake Sale - Homemade bakery items for sale.&nbsp\; Proceeds for scholarships for local students.<br />\n&nbsp\;
LOCATION:KB Farmer's Market Key Biscayne Community Church grounds 355 Glenridge Rd Key Biscayne\, FL 33149
UID:e.330.15667
SEQUENCE:3
DTSTAMP:20260423T035509Z
URL:http://business.keybiscaynechamber.org/events/details/key-biscayne-woman-s-club-bake-sale-15667
END:VEVENT

END:VCALENDAR
