BEGIN:VCALENDAR
VERSION:2.0
PRODID:-//ChamberMaster//Event Calendar 2.0//EN
METHOD:PUBLISH
X-PUBLISHED-TTL:P3D
REFRESH-INTERVAL:P3D
CALSCALE:GREGORIAN
BEGIN:VEVENT
DTSTART:20191207T140000Z
DTEND:20191207T190000Z
X-MICROSOFT-CDO-ALLDAYEVENT:FALSE
SUMMARY:Key Biscayne Woman's Club Bake Sale
DESCRIPTION:Sales of home baked goods made by members of Key Biscayne Woman's Club.
X-ALT-DESC;FMTTYPE=text/html:Sales of home baked goods made by members of Key Biscayne Woman&#39\;s Club.
LOCATION:Key Biscayne Community Church Farmers' Market 355 Glenridge Rd Key Biscayne\, FL 33149
UID:e.330.16473
SEQUENCE:3
DTSTAMP:20260421T104720Z
URL:http://business.keybiscaynechamber.org/events/details/key-biscayne-woman-s-club-bake-sale-12-07-2019-16473
END:VEVENT

END:VCALENDAR
