BEGIN:VCALENDAR
VERSION:2.0
PRODID:-//ChamberMaster//Event Calendar 2.0//EN
METHOD:PUBLISH
X-PUBLISHED-TTL:P3D
REFRESH-INTERVAL:P3D
CALSCALE:GREGORIAN
BEGIN:VEVENT
DTSTART:20191213T233000Z
DTEND:20191214T013000Z
X-MICROSOFT-CDO-ALLDAYEVENT:FALSE
SUMMARY:Key Biscayne Piano Festival
DESCRIPTION:Enjoy the Magic of Opera Arias & Piano Masterpieces\, featuring Eglise Gutierrez\, Luis Urbina and Micah McLaurin. Special guest Carlo Aonzo.
X-ALT-DESC;FMTTYPE=text/html:Enjoy the Magic of Opera Arias &amp\; Piano Masterpieces\, featuring Eglise Gutierrez\, Luis Urbina and Micah McLaurin. Special guest Carlo Aonzo.
LOCATION:Crossbridge Church 160 Harbor Drive Key Biscayne\, FL 33149
UID:e.330.18490
SEQUENCE:3
DTSTAMP:20260421T104610Z
URL:http://business.keybiscaynechamber.org/events/details/key-biscayne-piano-festival-12-13-2019-18490
END:VEVENT

END:VCALENDAR
