BEGIN:VCALENDAR
VERSION:2.0
PRODID:-//ChamberMaster//Event Calendar 2.0//EN
METHOD:PUBLISH
X-PUBLISHED-TTL:P3D
REFRESH-INTERVAL:P3D
CALSCALE:GREGORIAN
BEGIN:VEVENT
DTSTART:20190927T230000Z
DTEND:20190928T035500Z
X-MICROSOFT-CDO-ALLDAYEVENT:FALSE
SUMMARY:Key Biscayne Lions Club Oktoberfest
DESCRIPTION:All you can eat and drink! German Draft Beer | Bratwurst | Sauerkraut | Potato Salad | Wine... and more Food served until 10:00 PM. Live Oktoberfest Music from Austria.
X-ALT-DESC;FMTTYPE=text/html:All you can eat and drink! German Draft Beer | Bratwurst | Sauerkraut | Potato Salad | Wine... and more Food served until 10:00 PM. Live Oktoberfest Music from Austria.
LOCATION:Key Biscayne Beach Club 685 Ocean Drive Key Biscayne\, FL 33149
UID:e.330.16444
SEQUENCE:3
DTSTAMP:20260422T094554Z
URL:http://business.keybiscaynechamber.org/events/details/key-biscayne-lions-club-oktoberfest-16444
END:VEVENT

END:VCALENDAR
