BEGIN:VCALENDAR
VERSION:2.0
PRODID:-//ChamberMaster//Event Calendar 2.0//EN
METHOD:PUBLISH
X-PUBLISHED-TTL:P3D
REFRESH-INTERVAL:P3D
CALSCALE:GREGORIAN
BEGIN:VEVENT
DTSTART;VALUE=DATE:20240202
DTEND;VALUE=DATE:20240205
TRANSP:TRANSPARENT
X-MICROSOFT-CDO-ALLDAYEVENT:TRUE
SUMMARY:Key Biscayne Film Festival
DESCRIPTION:Welcome to the Key Biscayne Film Festival    celebrating the diverse world of audiovisual content\, grounded in the commitment to honor Island Cultures and our World Ocean. \n\n\n\nFrom mesmerizing captivating short films to awe-inspiring feature-length films\, the festival embraces the constantly evolving formats of the audiovisual medium.\n\n\n\n5 Oceans. 36 Hours. 1 Festival.\n\nJoin us as we journey through the captivating world of audiovisual storytelling and celebrate this art form's boundless possibilities. Let's create memories and inspire a new generation of visual storytellers.\n\n\n\nFriday Feb 2nd: 6 P.M. - 9 P.M.\n\nSaturday Feb 3rd: - 10 A.M. TO 9 P.M.\n\nSunday Feb 4th: 2 P.M. - 8 P.M.\n\n\n\nVIEW 2024 FESTIVAL PROGRAM
X-ALT-DESC;FMTTYPE=text/html:<br />\n<br />\n<span style="font-size:16px\;"><span style="font-family:arial\;">Welcome to the Key Biscayne Film Festival&nbsp\; &mdash\; celebrating the diverse world of audiovisual content\, grounded in the commitment to honor Island Cultures and our World Ocean.&nbsp\;<br />\n<br />\nFrom mesmerizing captivating short films to awe-inspiring feature-length films\, the festival embraces the constantly evolving formats of the audiovisual medium.</span></span><br />\n<br />\n<span style="font-size:18px\;"><span style="color:#008080\;"><strong>5 Oceans. 36 Hours. 1 Festival.</strong></span></span><br />\nJoin us as we journey through the captivating world of audiovisual storytelling and celebrate this art form&rsquo\;s boundless possibilities. Let&rsquo\;s create memories and inspire a new generation of visual storytellers.<br />\n<br />\n<span style="font-size:16px\;"><span style="font-family:arial\;"><span style="color: rgb(85\, 85\, 85)\;"><strong>Friday Feb 2nd</strong>: 6 P.M. - 9 P.M.</span><br style="box-sizing: border-box\; color: rgb(85\, 85\, 85)\; font-family: Lato\, sans-serif\; font-size: 16px\;" />\n<span style="color: rgb(85\, 85\, 85)\;"><strong>Saturday Feb 3rd</strong>: - 10 A.M. TO 9 P.M.<br />\n<strong>Sunday Feb 4th:</strong> 2 P.M. - 8 P.M.</span></span><br />\n<br />\n<span style="font-size:20px\;"><strong><a href="https://kbfilmfestival.org/program/"><span style="color:#008080\;">VIEW 2024 FESTIVAL PROGRAM</span></a></strong></span></span>
LOCATION:Paradise Park\, Key Biscayne Community Center\, and The Ritz-Carlton Key Biscayne
UID:e.330.22465
SEQUENCE:3
DTSTAMP:20260425T182957Z
URL:http://business.keybiscaynechamber.org/events/details/key-biscayne-film-festival-02-02-2024-22465
END:VEVENT

END:VCALENDAR
