BEGIN:VCALENDAR
VERSION:2.0
PRODID:-//ChamberMaster//Event Calendar 2.0//EN
METHOD:PUBLISH
X-PUBLISHED-TTL:P3D
REFRESH-INTERVAL:P3D
CALSCALE:GREGORIAN
BEGIN:VEVENT
DTSTART:20191116T140000Z
DTEND:20191116T180000Z
X-MICROSOFT-CDO-ALLDAYEVENT:FALSE
SUMMARY:KBPS Community Garage Sale
DESCRIPTION:"One man's trash is another man's treasure." Clean out your closets & sell your things or come by to find some treasure of your own! Refreshments for sale and children's activities hosted by the PTA Book Club. All are welcome so please invite your friends & neighbors to sell or stop by!
X-ALT-DESC;FMTTYPE=text/html:&ldquo\;One man&rsquo\;s trash is another man&rsquo\;s treasure.&rdquo\; Clean out your closets &amp\; sell your things or come by to find some treasure of your own! Refreshments for sale and children&rsquo\;s activities hosted by the PTA Book Club. All are welcome so please invite your friends &amp\; neighbors to sell or stop by!
LOCATION:
UID:e.330.18533
SEQUENCE:3
DTSTAMP:20260421T164328Z
URL:http://business.keybiscaynechamber.org/events/details/kbps-community-garage-sale-18533
END:VEVENT

END:VCALENDAR
